BEGIN:VCALENDAR
VERSION:2.0
PRODID:-//hacksw/handcal//NONSGML v1.0//EN
BEGIN:VEVENT
DTSTART:20210920T183000
DTEND:20210920T203000
LOCATION:
ORGANIZER;CN=Céline KELDENICH:MAILTO:celine.keldenich@alumni.utc.fr
SUMMARY:Pré-forum : présentation des entreprises partenaires
DESCRIPTION:NouveautéAfin de mieux vous préparer au forum virtuel de recrutement qui se déroulera les 30 septembre et 1er octobre, une séance de présentation des entreprises partenaires vous est proposée le...
URL:https://www.alumni.utc.fr/fr/event/pre-forum-presentation-des-entreprises-partenaires/2021/09/20/2384
BEGIN:VALARM
TRIGGER:-P0DT1H0M0S
ACTION:DISPLAY
END:VALARM
END:VEVENT
END:VCALENDAR