BEGIN:VCALENDAR
VERSION:2.0
PRODID:-//hacksw/handcal//NONSGML v1.0//EN
BEGIN:VEVENT
DTSTART:20221116T090000
DTEND:20221116T193000
LOCATION:Station F \n5 Parvis Alan Turing \n75013 Paris
ORGANIZER;CN=Assia TBAHRITI:MAILTO:assia.tbahriti@alumni.utc.fr
SUMMARY:AI For Health - Edition 2022
DESCRIPTION:Dans le cadre de son renouvellement de partenariat avec « AI for Health », UTC Alumni dispose d’un nombre limité d’invitations pour sa 5ème édition.L’évènement en mode présentiel, se déroulera le...
URL:https://www.alumni.utc.fr/fr/event/ai-for-health-edition-2022/2022/11/16/2606
BEGIN:VALARM
TRIGGER:-P0DT1H0M0S
ACTION:DISPLAY
END:VALARM
END:VEVENT
END:VCALENDAR