BEGIN:VCALENDAR
VERSION:2.0
PRODID:-//hacksw/handcal//NONSGML v1.0//EN
BEGIN:VEVENT
DTSTART:20260512T183000
DTEND:20260512T194500
LOCATION:
ORGANIZER;CN=Assia TBAHRITI:MAILTO:assia.tbahriti@alumni.utc.fr
SUMMARY:Conférence en ligne : Les métiers du Conseil
DESCRIPTION:Dans la continuité du "Centre de Carrière UTC" en lien avec La Junior UTC, UTC Alumni vous propose une conférence en ligne sur les métiers du Conseil :Conférence sur les Métiers du ConseilMardi 12...
URL:https://www.alumni.utc.fr/fr/event/conference-en-ligne-les-metiers-du-conseil/2026/05/12/3398
BEGIN:VALARM
TRIGGER:-P0DT1H0M0S
ACTION:DISPLAY
END:VALARM
END:VEVENT
END:VCALENDAR