BEGIN:VCALENDAR
VERSION:2.0
PRODID:-//hacksw/handcal//NONSGML v1.0//EN
BEGIN:VEVENT
DTSTART:20141013T193000
DTEND:20141013T223000
LOCATION:Rennes
ORGANIZER;CN=Adrien PONCHELET:MAILTO:
SUMMARY:AfterWork Accueil Stagiaires Multivilles Rennes
DESCRIPTION:\nDans le cadre de l'évènement national Accueil Stagiaires Multivilles, étudiants et diplômés de la région de Rennes se donnent rendez-vous :\n \nLundi 13 Octobre à 19h30\nLieu du Rendez-vous : 19h30 ...
URL:https://www.alumni.utc.fr/fr/event/afterwork-accueil-stagiaires-multivilles-rennes/2014/10/13/545
BEGIN:VALARM
TRIGGER:-P0DT1H0M0S
ACTION:DISPLAY
END:VALARM
END:VEVENT
END:VCALENDAR