BEGIN:VCALENDAR
VERSION:2.0
PRODID:-//hacksw/handcal//NONSGML v1.0//EN
BEGIN:VEVENT
DTSTART:20150309T190000
DTEND:20150309T213000
LOCATION:Assemblée nationale \n126, Rue de l'Université \n75007 PARIS
ORGANIZER;CN=Adrien PONCHELET:MAILTO:
SUMMARY:RDV exclusif à l’Assemblée Nationale pour ExpoFrance 2025
DESCRIPTION:Vous ne serez pas invité(e) le 5 mars prochain à la Fondation LVMH pour la présentation officielle du projet de candidature de la France à l’exposition universelle de 2025 qui sera déposée en 2016...
URL:https://www.alumni.utc.fr/fr/event/rdv-exclusif-a-l-assemblee-nationale-pour-expofrance-2025/2015/03/09/663
BEGIN:VALARM
TRIGGER:-P0DT1H0M0S
ACTION:DISPLAY
END:VALARM
END:VEVENT
END:VCALENDAR